BEGIN:VCALENDAR
VERSION:2.0
PRODID:-//Squarespace Inc/Squarespace 6//v6//EN
BEGIN:VEVENT
UID:5f1bac5e82368d42a1a988b1@squarespace.com
DTSTAMP:20200725T035158Z
DTSTART:20200725T040000Z
DTEND:20200725T050000Z
SUMMARY:ALL REMAINING 2020 DATES CANCELLED
END:VEVENT
END:VCALENDAR
