BEGIN:VCALENDAR
VERSION:2.0
PRODID:-//Squarespace Inc/Squarespace 6//v6//EN
BEGIN:VEVENT
UID:5e23bb596fef6f177e2f1eff@squarespace.com
DTSTAMP:20200420T070540Z
DTSTART:20200612T230000Z
DTEND:20200613T010000Z
SUMMARY:Jam Session 9 - CANCELLED
END:VEVENT
END:VCALENDAR
