BEGIN:VCALENDAR
VERSION:2.0
PRODID:-//Squarespace Inc/Squarespace 6//v6//EN
BEGIN:VEVENT
UID:5e23b8ecc1003e671fe6ef0a@squarespace.com
DTSTAMP:20200420T070457Z
DTSTART:20200501T230000Z
DTEND:20200502T010000Z
SUMMARY:Jam Session 6 - CANCELLED
END:VEVENT
END:VCALENDAR
