BEGIN:VCALENDAR
VERSION:2.0
PRODID:-//Squarespace Inc/Squarespace 6//v6//EN
BEGIN:VEVENT
UID:5e23b8c2c1003e671fe6e8a4@squarespace.com
DTSTAMP:20200119T022015Z
DTSTART:20200403T230000Z
DTEND:20200404T010000Z
SUMMARY:Jam Session 5
END:VEVENT
END:VCALENDAR
