BEGIN:VCALENDAR
VERSION:2.0
PRODID:-//Squarespace Inc/Squarespace 6//v6//EN
BEGIN:VEVENT
UID:5e23b829556e15498a97d47e@squarespace.com
DTSTAMP:20200119T022007Z
DTSTART:20200306T230000Z
DTEND:20200307T010000Z
SUMMARY:Jam Session 3
END:VEVENT
END:VCALENDAR
