BEGIN:VCALENDAR
VERSION:2.0
PRODID:-//Squarespace Inc/Squarespace 6//v6//EN
BEGIN:VEVENT
UID:5e23b85adcc09322eacc3985@squarespace.com
DTSTAMP:20200119T022011Z
DTSTART:20200320T230000Z
DTEND:20200321T010000Z
SUMMARY:Jam Session 4
END:VEVENT
END:VCALENDAR
