BEGIN:VCALENDAR
VERSION:2.0
PRODID:-//Squarespace Inc/Squarespace 6//v6//EN
BEGIN:VEVENT
UID:5e23b7006810047965c315ef@squarespace.com
DTSTAMP:20200119T021954Z
DTSTART:20200207T230000Z
DTEND:20200208T010000Z
SUMMARY:Jam Session 1
END:VEVENT
END:VCALENDAR
