BEGIN:VCALENDAR
VERSION:2.0
PRODID:-//Squarespace Inc/Squarespace 6//v6//EN
BEGIN:VEVENT
UID:5e23e269518cc75eb7065934@squarespace.com
DTSTAMP:20200119T050208Z
DTSTART:20200208T013000Z
DTEND:20200208T023000Z
SUMMARY:Big Band meet and greet
GEO:40.720756;-74.000761
LOCATION:Brisbane Jazz Club
END:VEVENT
END:VCALENDAR
