BEGIN:VCALENDAR
VERSION:2.0
PRODID:-//Squarespace Inc/Squarespace 6//v6//EN
BEGIN:VEVENT
UID:5e23b780518cc75eb7009512@squarespace.com
DTSTAMP:20200119T022001Z
DTSTART:20200221T230000Z
DTEND:20200222T010000Z
SUMMARY:Jam Session 2
END:VEVENT
END:VCALENDAR
