BEGIN:VCALENDAR
VERSION:2.0
PRODID:-//Squarespace Inc/Squarespace 6//v6//EN
BEGIN:VEVENT
UID:5e23e2da5dfafe47d360858d@squarespace.com
DTSTAMP:20200119T050408Z
DTSTART:20200212T070000Z
DTEND:20200212T090000Z
SUMMARY:Big Band Rehearsal ONE
END:VEVENT
END:VCALENDAR
