BEGIN:VCALENDAR
VERSION:2.0
PRODID:-//Squarespace Inc/Squarespace 6//v6//EN
BEGIN:VEVENT
UID:5c5d0aeb8165f5d4b13a8a40@squarespace.com
DTSTAMP:20190208T045221Z
DTSTART:20190913T230000Z
DTEND:20190914T010000Z
SUMMARY:Jam Session Fourteen
END:VEVENT
END:VCALENDAR
