BEGIN:VCALENDAR
VERSION:2.0
PRODID:-//Squarespace Inc/Squarespace 6//v6//EN
BEGIN:VEVENT
UID:5c5d0ecfb208fcfb61b322d7@squarespace.com
DTSTAMP:20190208T050843Z
DTSTART:20190807T070000Z
DTEND:20190807T090000Z
SUMMARY:Big Band rehearsal
END:VEVENT
END:VCALENDAR
