BEGIN:VCALENDAR
VERSION:2.0
PRODID:-//Squarespace Inc/Squarespace 6//v6//EN
BEGIN:VEVENT
UID:5c5d09e015fcc0057f8ddd3c@squarespace.com
DTSTAMP:20190528T084227Z
DTSTART:20190719T230000Z
DTEND:20190720T010000Z
SUMMARY:Jam Session Ten
END:VEVENT
END:VCALENDAR
