BEGIN:VCALENDAR
VERSION:2.0
PRODID:-//Squarespace Inc/Squarespace 6//v6//EN
BEGIN:VEVENT
UID:5c5d0a5a0852294ff2ffefdb@squarespace.com
DTSTAMP:20190208T044955Z
DTSTART:20190802T230000Z
DTEND:20190803T010000Z
SUMMARY:Jam Session Eleven
END:VEVENT
END:VCALENDAR
