BEGIN:VCALENDAR
VERSION:2.0
PRODID:-//Squarespace Inc/Squarespace 6//v6//EN
BEGIN:VEVENT
UID:5c5d0f09eef1a1c7d63860bf@squarespace.com
DTSTAMP:20190208T050938Z
DTSTART:20190828T070000Z
DTEND:20190828T090000Z
SUMMARY:Big Band rehearsal
END:VEVENT
END:VCALENDAR
