BEGIN:VCALENDAR
VERSION:2.0
PRODID:-//Squarespace Inc/Squarespace 6//v6//EN
BEGIN:VEVENT
UID:5c5d0ef515fcc0057f8e06fd@squarespace.com
DTSTAMP:20190208T050920Z
DTSTART:20190821T070000Z
DTEND:20190821T090000Z
SUMMARY:Big Band rehearsal
END:VEVENT
END:VCALENDAR
