BEGIN:VCALENDAR
VERSION:2.0
PRODID:-//Squarespace Inc/Squarespace 6//v6//EN
BEGIN:VEVENT
UID:5c5d0a83e2c4833b39147e10@squarespace.com
DTSTAMP:20190208T045040Z
DTSTART:20190816T230000Z
DTEND:20190817T010000Z
SUMMARY:Jam Session Twelve
END:VEVENT
END:VCALENDAR
