BEGIN:VCALENDAR
VERSION:2.0
PRODID:-//Squarespace Inc/Squarespace 6//v6//EN
BEGIN:VEVENT
UID:5c5d0ee4652dea1f4a53fd7a@squarespace.com
DTSTAMP:20190208T050900Z
DTSTART:20190814T070000Z
DTEND:20190814T090000Z
SUMMARY:Big Band rehearsal
END:VEVENT
END:VCALENDAR
