BEGIN:VCALENDAR
VERSION:2.0
PRODID:-//Squarespace Inc/Squarespace 6//v6//EN
BEGIN:VEVENT
UID:5cecf2577817f71809dc2ebd@squarespace.com
DTSTAMP:20190528T083355Z
DTSTART:20190705T020000Z
DTEND:20190705T120000Z
SUMMARY:Young Women's Workshop - Day Five
END:VEVENT
END:VCALENDAR
