BEGIN:VCALENDAR
VERSION:2.0
PRODID:-//Squarespace Inc/Squarespace 6//v6//EN
BEGIN:VEVENT
UID:5cecf2408165f52f88333217@squarespace.com
DTSTAMP:20190528T083320Z
DTSTART:20190703T230000Z
DTEND:20190704T030000Z
SUMMARY:Young Women's Workshop - Day Four
END:VEVENT
END:VCALENDAR
