BEGIN:VCALENDAR
VERSION:2.0
PRODID:-//Squarespace Inc/Squarespace 6//v6//EN
BEGIN:VEVENT
UID:5c5d0eaeee6eb01e54ee4e8d@squarespace.com
DTSTAMP:20190208T050820Z
DTSTART:20190731T070000Z
DTEND:20190731T090000Z
SUMMARY:Big Band rehearsal
END:VEVENT
END:VCALENDAR
