BEGIN:VCALENDAR
VERSION:2.0
PRODID:-//Squarespace Inc/Squarespace 6//v6//EN
BEGIN:VEVENT
UID:5cecf22de4966b600de0eb1b@squarespace.com
DTSTAMP:20190528T083408Z
DTSTART:20190702T230000Z
DTEND:20190703T030000Z
SUMMARY:Young Women's Workshop - Day Three
END:VEVENT
END:VCALENDAR
