BEGIN:VCALENDAR
VERSION:2.0
PRODID:-//Squarespace Inc/Squarespace 6//v6//EN
BEGIN:VEVENT
UID:5cecf2154785d31a377744f8@squarespace.com
DTSTAMP:20190528T083238Z
DTSTART:20190701T230000Z
DTEND:20190702T030000Z
SUMMARY:Young Women's Workshop - Day Two
END:VEVENT
END:VCALENDAR
