BEGIN:VCALENDAR
VERSION:2.0
PRODID:-//Squarespace Inc/Squarespace 6//v6//EN
BEGIN:VEVENT
UID:5cecf1f0e79c7041acd7501e@squarespace.com
DTSTAMP:20190528T083400Z
DTSTART:20190630T230000Z
DTEND:20190701T030000Z
SUMMARY:Young Women's Workshop - Day One
END:VEVENT
END:VCALENDAR
