BEGIN:VCALENDAR
VERSION:2.0
PRODID:-//Squarespace Inc/Squarespace 6//v6//EN
BEGIN:VEVENT
UID:5c5d09907817f7b5b95a6ede@squarespace.com
DTSTAMP:20190528T083917Z
DTSTART:20190607T230000Z
DTEND:20190608T010000Z
SUMMARY:Jam Session Eight
END:VEVENT
END:VCALENDAR
