BEGIN:VCALENDAR
VERSION:2.0
PRODID:-//Squarespace Inc/Squarespace 6//v6//EN
BEGIN:VEVENT
UID:5c5d0e039140b7dd10767bfe@squarespace.com
DTSTAMP:20190528T083839Z
DTSTART:20190605T070000Z
DTEND:20190605T090000Z
SUMMARY:Big Band rehearsal
END:VEVENT
END:VCALENDAR
