BEGIN:VCALENDAR
VERSION:2.0
PRODID:-//Squarespace Inc/Squarespace 6//v6//EN
BEGIN:VEVENT
UID:5c5d0e4d419202425101d574@squarespace.com
DTSTAMP:20190528T084203Z
DTSTART:20190626T070000Z
DTEND:20190626T090000Z
SUMMARY:Big Band rehearsal
END:VEVENT
END:VCALENDAR
