BEGIN:VCALENDAR
VERSION:2.0
PRODID:-//Squarespace Inc/Squarespace 6//v6//EN
BEGIN:VEVENT
UID:5c5d09bb53450a33cdf71b94@squarespace.com
DTSTAMP:20190528T084119Z
DTSTART:20190621T230000Z
DTEND:20190622T010000Z
SUMMARY:Jam Session Nine
END:VEVENT
END:VCALENDAR
