BEGIN:VCALENDAR
VERSION:2.0
PRODID:-//Squarespace Inc/Squarespace 6//v6//EN
BEGIN:VEVENT
UID:5c5d0e37f9619a7d828e010b@squarespace.com
DTSTAMP:20190528T084038Z
DTSTART:20190619T070000Z
DTEND:20190619T090000Z
SUMMARY:Big Band rehearsal
END:VEVENT
END:VCALENDAR
