BEGIN:VCALENDAR
VERSION:2.0
PRODID:-//Squarespace Inc/Squarespace 6//v6//EN
BEGIN:VEVENT
UID:5c5d0e256e9a7f5015ddd3f6@squarespace.com
DTSTAMP:20190528T083958Z
DTSTART:20190612T070000Z
DTEND:20190612T090000Z
SUMMARY:Big Band rehearsal
END:VEVENT
END:VCALENDAR
