BEGIN:VCALENDAR
VERSION:2.0
PRODID:-//Squarespace Inc/Squarespace 6//v6//EN
BEGIN:VEVENT
UID:5c5d0da5fa0d603a92b3e0f5@squarespace.com
DTSTAMP:20190208T050343Z
DTSTART:20190508T070000Z
DTEND:20190508T090000Z
SUMMARY:Big Band rehearsal
END:VEVENT
END:VCALENDAR
