BEGIN:VCALENDAR
VERSION:2.0
PRODID:-//Squarespace Inc/Squarespace 6//v6//EN
BEGIN:VEVENT
UID:5c5d0ddbeef1a1c7d6385861@squarespace.com
DTSTAMP:20190528T083807Z
DTSTART:20190529T070000Z
DTEND:20190529T090000Z
SUMMARY:Big Band rehearsal
END:VEVENT
END:VCALENDAR
