BEGIN:VCALENDAR
VERSION:2.0
PRODID:-//Squarespace Inc/Squarespace 6//v6//EN
BEGIN:VEVENT
UID:5c5d095aeb3931235d8b2d0f@squarespace.com
DTSTAMP:20190208T044548Z
DTSTART:20190524T230000Z
DTEND:20190525T010000Z
SUMMARY:Jam Session Seven
END:VEVENT
END:VCALENDAR
