BEGIN:VCALENDAR
VERSION:2.0
PRODID:-//Squarespace Inc/Squarespace 6//v6//EN
BEGIN:VEVENT
UID:5c5d0db7c830257aed8d4743@squarespace.com
DTSTAMP:20190208T050401Z
DTSTART:20190515T070000Z
DTEND:20190515T090000Z
SUMMARY:Big Band rehearsal
END:VEVENT
END:VCALENDAR
