BEGIN:VCALENDAR
VERSION:2.0
PRODID:-//Squarespace Inc/Squarespace 6//v6//EN
BEGIN:VEVENT
UID:5c5d092c0d92973514d0d893@squarespace.com
DTSTAMP:20190208T044503Z
DTSTART:20190510T230000Z
DTEND:20190511T010000Z
SUMMARY:Jam Session Six
END:VEVENT
END:VCALENDAR
