BEGIN:VCALENDAR
VERSION:2.0
PRODID:-//Squarespace Inc/Squarespace 6//v6//EN
BEGIN:VEVENT
UID:5c5d0d7b8165f5d4b13a9e95@squarespace.com
DTSTAMP:20190208T050321Z
DTSTART:20190501T070000Z
DTEND:20190501T090000Z
SUMMARY:Big Band rehearsal
END:VEVENT
END:VCALENDAR
