BEGIN:VCALENDAR
VERSION:2.0
PRODID:-//Squarespace Inc/Squarespace 6//v6//EN
BEGIN:VEVENT
UID:5c5d0d2bee6eb01e54ee4306@squarespace.com
DTSTAMP:20190208T050730Z
DTSTART:20190403T070000Z
DTEND:20190403T090000Z
SUMMARY:Big Band rehearsal
END:VEVENT
END:VCALENDAR
