BEGIN:VCALENDAR
VERSION:2.0
PRODID:-//Squarespace Inc/Squarespace 6//v6//EN
BEGIN:VEVENT
UID:5c5d09051905f4af78e955c3@squarespace.com
DTSTAMP:20190208T044419Z
DTSTART:20190426T230000Z
DTEND:20190427T010000Z
SUMMARY:Jam Session Five
END:VEVENT
END:VCALENDAR
