BEGIN:VCALENDAR
VERSION:2.0
PRODID:-//Squarespace Inc/Squarespace 6//v6//EN
BEGIN:VEVENT
UID:5c5d0d4115fcc0057f8df9db@squarespace.com
DTSTAMP:20190208T050203Z
DTSTART:20190424T070000Z
DTEND:20190424T090000Z
SUMMARY:Big Band rehearsal
END:VEVENT
END:VCALENDAR
