BEGIN:VCALENDAR
VERSION:2.0
PRODID:-//Squarespace Inc/Squarespace 6//v6//EN
BEGIN:VEVENT
UID:5c5d0b87e79c70d0a3a426b2@squarespace.com
DTSTAMP:20190208T045450Z
DTSTART:20190306T070000Z
DTEND:20190306T090000Z
SUMMARY:Big Band rehearsal
END:VEVENT
END:VCALENDAR
