BEGIN:VCALENDAR
VERSION:2.0
PRODID:-//Squarespace Inc/Squarespace 6//v6//EN
BEGIN:VEVENT
UID:5c5d08c024a69419174aea4f@squarespace.com
DTSTAMP:20190208T044315Z
DTSTART:20190329T230000Z
DTEND:20190330T010000Z
SUMMARY:Jam Session Four
END:VEVENT
END:VCALENDAR
