BEGIN:VCALENDAR
VERSION:2.0
PRODID:-//Squarespace Inc/Squarespace 6//v6//EN
BEGIN:VEVENT
UID:5c5d0beb0d92973514d0f1fa@squarespace.com
DTSTAMP:20190208T045619Z
DTSTART:20190327T070000Z
DTEND:20190327T090000Z
SUMMARY:Big Band rehearsal
END:VEVENT
END:VCALENDAR
