BEGIN:VCALENDAR
VERSION:2.0
PRODID:-//Squarespace Inc/Squarespace 6//v6//EN
BEGIN:VEVENT
UID:5c5d0bd20d92973514d0f149@squarespace.com
DTSTAMP:20190208T045600Z
DTSTART:20190320T070000Z
DTEND:20190320T090000Z
SUMMARY:Big Band rehearsal
END:VEVENT
END:VCALENDAR
