BEGIN:VCALENDAR
VERSION:2.0
PRODID:-//Squarespace Inc/Squarespace 6//v6//EN
BEGIN:VEVENT
UID:5c5d08740852294ff2ffdf9f@squarespace.com
DTSTAMP:20190208T044200Z
DTSTART:20190315T230000Z
DTEND:20190316T010000Z
SUMMARY:Jam Session Three
END:VEVENT
END:VCALENDAR
