BEGIN:VCALENDAR
VERSION:2.0
PRODID:-//Squarespace Inc/Squarespace 6//v6//EN
BEGIN:VEVENT
UID:5c5d0ba8eef1a1c7d6384854@squarespace.com
DTSTAMP:20190208T045531Z
DTSTART:20190313T070000Z
DTEND:20190313T090000Z
SUMMARY:Big Band rehearsal
END:VEVENT
END:VCALENDAR
