BEGIN:VCALENDAR
VERSION:2.0
PRODID:-//Squarespace Inc/Squarespace 6//v6//EN
BEGIN:VEVENT
UID:5c540cfbe2c483b055638434@squarespace.com
DTSTAMP:20190208T044232Z
DTSTART:20190215T230000Z
DTEND:20190216T010000Z
SUMMARY:Jam Session One
END:VEVENT
END:VCALENDAR
