BEGIN:VCALENDAR
VERSION:2.0
PRODID:-//Squarespace Inc/Squarespace 6//v6//EN
BEGIN:VEVENT
UID:5c540ca9f4e1fc645932127b@squarespace.com
DTSTAMP:20190207T052057Z
DTSTART:20190220T070000Z
DTEND:20190220T090000Z
SUMMARY:First Big Band rehearsal
END:VEVENT
END:VCALENDAR
