BEGIN:VCALENDAR
VERSION:2.0
PRODID:-//Squarespace Inc/Squarespace 6//v6//EN
BEGIN:VEVENT
UID:5c540c4bf4e1fc64593210b4@squarespace.com
DTSTAMP:20190208T044111Z
DTSTART:20190211T060000Z
DTEND:20190211T073000Z
SUMMARY:Sign On Day Sausage Sizzle
END:VEVENT
END:VCALENDAR
