BEGIN:VCALENDAR
VERSION:2.0
PRODID:-//Squarespace Inc/Squarespace 6//v6//EN
BEGIN:VEVENT
UID:5d75d449012ba9603d408523@squarespace.com
DTSTAMP:20190909T042603Z
DTSTART:20191109T230000Z
DTEND:20191110T010000Z
SUMMARY:Big Band auditions
END:VEVENT
END:VCALENDAR
