BEGIN:VCALENDAR
VERSION:2.0
PRODID:-//Squarespace Inc/Squarespace 6//v6//EN
BEGIN:VEVENT
UID:5a62cd25e4966be2941f613f@squarespace.com
DTSTAMP:20180120T050230Z
DTSTART:20180923T230000Z
DTEND:20180924T030000Z
SUMMARY:Performance Workshop Two - Day One
GEO:-27.466216;153.034053
LOCATION:The Brisbane Jazz Club
END:VEVENT
END:VCALENDAR
